BEGIN:VCALENDAR
VERSION:2.0
PRODID:-//eventon.com NONSGML v1.0//EN
CALSCALE:GREGORIAN
METHOD:PUBLISH
BEGIN:VEVENT
UID:69e8aa389f2f3
DTSTAMP:20260422T110008Z
DTSTART:20260216T000000Z
DTEND:20260601T235000Z
LOCATION:
SUMMARY:Profilaktyka w ochronie zdrowia oczu
DESCRIPTION:Organizator Wydział Fizyki Grupa docelowa Osoby studiujące na
  jednolitych studiach magisterskich Cel projektu Celem projektu jest przygo
 towanie studentów do planowania\,  organizacji oraz przeprowadzania badań
  przesiewowych narządu wzroku w różnych grupach docelowych (m. in. dziec
 i\,  młodzież\,  osoby dorosłe pracujące przy ekranach\,  seniorzy)\,  
 a także do prowadzenia działań edukacyjnych i promujących profilaktykę
 [..]\nhttps://zip2.uw.edu.pl/events/profilaktyka-w-ochronie-zdrowia-oczu/
URL:https://zip2.uw.edu.pl/events/profilaktyka-w-ochronie-zdrowia-oczu/
END:VEVENT
END:VCALENDAR