BEGIN:VCALENDAR
VERSION:2.0
PRODID:-//eventon.com NONSGML v1.0//EN
CALSCALE:GREGORIAN
METHOD:PUBLISH
BEGIN:VEVENT
UID:69e6955783041
DTSTAMP:20260420T210631Z
DTSTART:20260216T000000Z
DTEND:20260601T235000Z
LOCATION:
SUMMARY:Edukacja finansowa młodzieży
DESCRIPTION:Organizator Wydział Nauk Ekonomicznych UW Grupa docelowa Osoby
  studiujące na II stopniu studiów na kierunku Ekonomia Cel projektu Celem
  projektu jest rozwój kompetencji społeczno-przedsiębiorczych osób stud
 iujących poprzez diagnozę i rozwiązanie realnego problemu społeczno-gos
 podarczego – niskiego poziomu edukacji finansowej wśród młodzieży w P
 olsce. Projekt będzie realizowany w formie zajęć kierunkowych do[..]\nht
 tps://zip2.uw.edu.pl/events/edukacja-finansowa-mlodziezy/
URL:https://zip2.uw.edu.pl/events/edukacja-finansowa-mlodziezy/
END:VEVENT
END:VCALENDAR